BEGIN:VCALENDAR
VERSION:2.0
PRODID:-//Archeopark Chotěbuz - Podobora - ECPv5.14.1//NONSGML v1.0//EN
CALSCALE:GREGORIAN
METHOD:PUBLISH
X-WR-CALNAME:Archeopark Chotěbuz - Podobora
X-ORIGINAL-URL:https://www.archeoparkchotebuz.cz
X-WR-CALDESC:Akce na Archeopark Chotěbuz - Podobora
BEGIN:VTIMEZONE
TZID:Europe/Paris
BEGIN:DAYLIGHT
TZOFFSETFROM:+0100
TZOFFSETTO:+0200
TZNAME:CEST
DTSTART:20220327T010000
END:DAYLIGHT
BEGIN:STANDARD
TZOFFSETFROM:+0200
TZOFFSETTO:+0100
TZNAME:CET
DTSTART:20221030T010000
END:STANDARD
END:VTIMEZONE
BEGIN:VEVENT
DTSTART;TZID=Europe/Paris:20221119T090000
DTEND;TZID=Europe/Paris:20221119T150000
DTSTAMP:20260421T071731
CREATED:20221108T140409Z
LAST-MODIFIED:20221108T140409Z
UID:3402-1668848400-1668870000@www.archeoparkchotebuz.cz
SUMMARY:DEN KERAMICKÉ ZRUČNOSTI
DESCRIPTION:Stavte se o víkendu za námi do Archeoparku a seznamte se se základními technickými postupy používanými při výrobě keramických předmětů.
URL:https://www.archeoparkchotebuz.cz/akce/den-keramicke-zrucnosti-2/
END:VEVENT
END:VCALENDAR