BEGIN:VCALENDAR
VERSION:2.0
PRODID:-//Archeopark Chotěbuz - Podobora - ECPv5.14.1//NONSGML v1.0//EN
CALSCALE:GREGORIAN
METHOD:PUBLISH
X-WR-CALNAME:Archeopark Chotěbuz - Podobora
X-ORIGINAL-URL:https://www.archeoparkchotebuz.cz
X-WR-CALDESC:Akce na Archeopark Chotěbuz - Podobora
BEGIN:VTIMEZONE
TZID:Europe/Paris
BEGIN:DAYLIGHT
TZOFFSETFROM:+0100
TZOFFSETTO:+0200
TZNAME:CEST
DTSTART:20210328T010000
END:DAYLIGHT
BEGIN:STANDARD
TZOFFSETFROM:+0200
TZOFFSETTO:+0100
TZNAME:CET
DTSTART:20211031T010000
END:STANDARD
END:VTIMEZONE
BEGIN:VEVENT
DTSTART;TZID=Europe/Paris:20211106T090000
DTEND;TZID=Europe/Paris:20211106T150000
DTSTAMP:20260421T071937
CREATED:20210812T133527Z
LAST-MODIFIED:20211103T131755Z
UID:3026-1636189200-1636210800@www.archeoparkchotebuz.cz
SUMMARY:RÁZNÝ RAZIČ
DESCRIPTION:V rámci akce si budete moci vyrazit repliku stříbrného půldenáru uherského krále Štěpána I. z 11. stol.
URL:https://www.archeoparkchotebuz.cz/akce/honba-za-pokladem-2/
ATTACH;FMTTYPE=image/jpeg:https://www.archeoparkchotebuz.cz/wp-content/uploads/rázný-razič.jpg
END:VEVENT
END:VCALENDAR