BEGIN:VCALENDAR
VERSION:2.0
PRODID:-//Archeopark Chotěbuz - Podobora - ECPv5.14.1//NONSGML v1.0//EN
CALSCALE:GREGORIAN
METHOD:PUBLISH
X-WR-CALNAME:Archeopark Chotěbuz - Podobora
X-ORIGINAL-URL:https://www.archeoparkchotebuz.cz
X-WR-CALDESC:Akce na Archeopark Chotěbuz - Podobora
BEGIN:VTIMEZONE
TZID:Europe/Paris
BEGIN:DAYLIGHT
TZOFFSETFROM:+0100
TZOFFSETTO:+0200
TZNAME:CEST
DTSTART:20210328T010000
END:DAYLIGHT
BEGIN:STANDARD
TZOFFSETFROM:+0200
TZOFFSETTO:+0100
TZNAME:CET
DTSTART:20211031T010000
END:STANDARD
END:VTIMEZONE
BEGIN:VEVENT
DTSTART;TZID=Europe/Paris:20211120T090000
DTEND;TZID=Europe/Paris:20211120T150000
DTSTAMP:20260421T071529
CREATED:20210812T133619Z
LAST-MODIFIED:20211103T131837Z
UID:3028-1637398800-1637420400@www.archeoparkchotebuz.cz
SUMMARY:KERAMICKÁ DÍLNA
DESCRIPTION:Navštivte naši keramickou dílnu a naučte se základní technické postupy používané při výrobě keramických předmětů. Čeká na vás ruční tvorba keramiky a točení na hrnčířském kruhu.
URL:https://www.archeoparkchotebuz.cz/akce/keramicka-dilna-5/
ATTACH;FMTTYPE=image/jpeg:https://www.archeoparkchotebuz.cz/wp-content/uploads/keramická-dílna.jpg
END:VEVENT
END:VCALENDAR