BEGIN:VCALENDAR
VERSION:2.0
PRODID:-//Archeopark Chotěbuz - Podobora - ECPv5.14.1//NONSGML v1.0//EN
CALSCALE:GREGORIAN
METHOD:PUBLISH
X-WR-CALNAME:Archeopark Chotěbuz - Podobora
X-ORIGINAL-URL:https://www.archeoparkchotebuz.cz
X-WR-CALDESC:Akce na Archeopark Chotěbuz - Podobora
BEGIN:VTIMEZONE
TZID:Europe/Paris
BEGIN:DAYLIGHT
TZOFFSETFROM:+0100
TZOFFSETTO:+0200
TZNAME:CEST
DTSTART:20210328T010000
END:DAYLIGHT
BEGIN:STANDARD
TZOFFSETFROM:+0200
TZOFFSETTO:+0100
TZNAME:CET
DTSTART:20211031T010000
END:STANDARD
END:VTIMEZONE
BEGIN:VEVENT
DTSTART;TZID=Europe/Paris:20211016T090000
DTEND;TZID=Europe/Paris:20211016T150000
DTSTAMP:20260421T054106
CREATED:20210812T133437Z
LAST-MODIFIED:20211011T121910Z
UID:3024-1634374800-1634396400@www.archeoparkchotebuz.cz
SUMMARY:MEZINÁRODNÍ DEN ARCHEOLOGIE
DESCRIPTION:Po roce opět slavíme Mezinárodní den archeologie! Přijďte si zahrát zábavnou vzdělávací hru\, která Vás provede světem archeologie\, na konci čeká na děti malá odměna. \nDozvíte se\, jak pracuje archeolog\, co používá za nástroje a kam putují objevené nálezy.
URL:https://www.archeoparkchotebuz.cz/akce/mezinarodni-den-archeologie-4/
ATTACH;FMTTYPE=image/jpeg:https://www.archeoparkchotebuz.cz/wp-content/uploads/AP-MDA.jpg
END:VEVENT
END:VCALENDAR