BEGIN:VCALENDAR
VERSION:2.0
PRODID:-//Archeopark Chotěbuz - Podobora - ECPv5.14.1//NONSGML v1.0//EN
CALSCALE:GREGORIAN
METHOD:PUBLISH
X-WR-CALNAME:Archeopark Chotěbuz - Podobora
X-ORIGINAL-URL:https://www.archeoparkchotebuz.cz
X-WR-CALDESC:Akce na Archeopark Chotěbuz - Podobora
BEGIN:VTIMEZONE
TZID:Europe/Paris
BEGIN:DAYLIGHT
TZOFFSETFROM:+0100
TZOFFSETTO:+0200
TZNAME:CEST
DTSTART:20220327T010000
END:DAYLIGHT
BEGIN:STANDARD
TZOFFSETFROM:+0200
TZOFFSETTO:+0100
TZNAME:CET
DTSTART:20221030T010000
END:STANDARD
END:VTIMEZONE
BEGIN:VEVENT
DTSTART;VALUE=DATE:20221015
DTEND;VALUE=DATE:20221016
DTSTAMP:20260420T225056
CREATED:20221010T075714Z
LAST-MODIFIED:20221010T075714Z
UID:3388-1665792000-1665878399@www.archeoparkchotebuz.cz
SUMMARY:Mezinárodní den archeologie
DESCRIPTION:Každoročně slavíme Mezinárodní den archeologie a letos tomu nebude jinak. A kde jinde bychom si tento den měli připomenout\, než v Archeoparku v Chotěbuzi-Podoboře\, a s kým jiným\, než s naší archeoložkou Martinou Uhlářovou a Miriam Nývltovou Fišákovou\, největší odbornicí na našeho chrta! V roce 2005 byly totiž při archeologickém výzkumu na hradišti nalezeny psí kosti. Výzkumem kostí se zabývají osteologové a právě tuto specializaci má také autorka naší přednášky\, která vás ohromí tím\, co všechno se dá z jedné kosti vyčíst \n  \n 
URL:https://www.archeoparkchotebuz.cz/akce/mezinarodni-den-archeologie-5/
END:VEVENT
END:VCALENDAR