BEGIN:VCALENDAR
VERSION:2.0
PRODID:-//Archeopark Chotěbuz - Podobora - ECPv5.14.1//NONSGML v1.0//EN
CALSCALE:GREGORIAN
METHOD:PUBLISH
X-WR-CALNAME:Archeopark Chotěbuz - Podobora
X-ORIGINAL-URL:https://www.archeoparkchotebuz.cz
X-WR-CALDESC:Akce na Archeopark Chotěbuz - Podobora
BEGIN:VTIMEZONE
TZID:Europe/Paris
BEGIN:DAYLIGHT
TZOFFSETFROM:+0100
TZOFFSETTO:+0200
TZNAME:CEST
DTSTART:20230326T010000
END:DAYLIGHT
BEGIN:STANDARD
TZOFFSETFROM:+0200
TZOFFSETTO:+0100
TZNAME:CET
DTSTART:20231029T010000
END:STANDARD
END:VTIMEZONE
BEGIN:VEVENT
DTSTART;TZID=Europe/Paris:20230401T090000
DTEND;TZID=Europe/Paris:20230401T170000
DTSTAMP:20260423T223601
CREATED:20230308T143142Z
LAST-MODIFIED:20230331T164549Z
UID:3465-1680339600-1680368400@www.archeoparkchotebuz.cz
SUMMARY:OD PŘÍZE PO TUNIKU
DESCRIPTION:Vyzkoušejte si\, čím vším se kdysi tkadlec musel zabývat\, než vyrobil tuniku. Naučíme vás spřádat nit na vřeténku nebo kolovratu\, používat přírodní barviva\, utkat si opasek na karetkách nebo tkát na stavu.
URL:https://www.archeoparkchotebuz.cz/akce/od-prize-po-tuniku/
END:VEVENT
END:VCALENDAR