BEGIN:VCALENDAR
VERSION:2.0
PRODID:-//Archeopark Chotěbuz - Podobora - ECPv5.14.1//NONSGML v1.0//EN
CALSCALE:GREGORIAN
METHOD:PUBLISH
X-WR-CALNAME:Archeopark Chotěbuz - Podobora
X-ORIGINAL-URL:https://www.archeoparkchotebuz.cz
X-WR-CALDESC:Akce na Archeopark Chotěbuz - Podobora
BEGIN:VTIMEZONE
TZID:Europe/Paris
BEGIN:DAYLIGHT
TZOFFSETFROM:+0100
TZOFFSETTO:+0200
TZNAME:CEST
DTSTART:20220327T010000
END:DAYLIGHT
BEGIN:STANDARD
TZOFFSETFROM:+0200
TZOFFSETTO:+0100
TZNAME:CET
DTSTART:20221030T010000
END:STANDARD
END:VTIMEZONE
BEGIN:VEVENT
DTSTART;TZID=Europe/Paris:20221105T090000
DTEND;TZID=Europe/Paris:20221105T150000
DTSTAMP:20260421T041108
CREATED:20221011T124817Z
LAST-MODIFIED:20221011T124817Z
UID:3397-1667638800-1667660400@www.archeoparkchotebuz.cz
SUMMARY:PŘÍBĚH ZTRACENÉHO KUPCE
DESCRIPTION:Na Jantarové stezce se ztratil kupec! Rozlušti záhadu na základě výpovědí obyvatel hradiska. Pozor\, nenech se napálit\, ne všichni mluví pravdu. \nDetektivní hra pro děti od 10 let
URL:https://www.archeoparkchotebuz.cz/akce/pribeh-ztraceneho-kupce-2/
END:VEVENT
END:VCALENDAR