BEGIN:VCALENDAR
VERSION:2.0
PRODID:-//Archeopark Chotěbuz - Podobora - ECPv5.14.1//NONSGML v1.0//EN
CALSCALE:GREGORIAN
METHOD:PUBLISH
X-WR-CALNAME:Archeopark Chotěbuz - Podobora
X-ORIGINAL-URL:https://www.archeoparkchotebuz.cz
X-WR-CALDESC:Akce na Archeopark Chotěbuz - Podobora
BEGIN:VTIMEZONE
TZID:Europe/Paris
BEGIN:DAYLIGHT
TZOFFSETFROM:+0100
TZOFFSETTO:+0200
TZNAME:CEST
DTSTART:20240331T010000
END:DAYLIGHT
BEGIN:STANDARD
TZOFFSETFROM:+0200
TZOFFSETTO:+0100
TZNAME:CET
DTSTART:20241027T010000
END:STANDARD
END:VTIMEZONE
BEGIN:VEVENT
DTSTART;TZID=Europe/Paris:20240403T090000
DTEND;TZID=Europe/Paris:20240403T120000
DTSTAMP:20260425T042157
CREATED:20240305T122736Z
LAST-MODIFIED:20240305T122856Z
UID:3664-1712134800-1712145600@www.archeoparkchotebuz.cz
SUMMARY:Řemesla našich předků - vůně kůže
DESCRIPTION:Přijďte si vyrobit svou vlastní klíčenku a náramek. Zkušený řemeslník Jan Pavelka vyrábí předměty z kůže od úplného základu (od řezáni kůže\, přes dekoraci vytepáváním kůže až po barvení\, a finální úpravu balzámem). \n 
URL:https://www.archeoparkchotebuz.cz/akce/remesla-nasich-predku-vune-kuze/
END:VEVENT
END:VCALENDAR