BEGIN:VCALENDAR
VERSION:2.0
PRODID:-//Archeopark Chotěbuz - Podobora - ECPv5.14.1//NONSGML v1.0//EN
CALSCALE:GREGORIAN
METHOD:PUBLISH
X-WR-CALNAME:Archeopark Chotěbuz - Podobora
X-ORIGINAL-URL:https://www.archeoparkchotebuz.cz
X-WR-CALDESC:Akce na Archeopark Chotěbuz - Podobora
BEGIN:VTIMEZONE
TZID:Europe/Paris
BEGIN:DAYLIGHT
TZOFFSETFROM:+0100
TZOFFSETTO:+0200
TZNAME:CEST
DTSTART:20220327T010000
END:DAYLIGHT
BEGIN:STANDARD
TZOFFSETFROM:+0200
TZOFFSETTO:+0100
TZNAME:CET
DTSTART:20221030T010000
END:STANDARD
END:VTIMEZONE
BEGIN:VEVENT
DTSTART;TZID=Europe/Paris:20220928T090000
DTEND;TZID=Europe/Paris:20220928T170000
DTSTAMP:20260420T205205
CREATED:20220808T130754Z
LAST-MODIFIED:20220808T130754Z
UID:3360-1664355600-1664384400@www.archeoparkchotebuz.cz
SUMMARY:SVATOVÁCLAVSKÝ DEN
DESCRIPTION:Přijďte s námi oslavit svátek patrona českých zemí sv. Václava\, poučit se a přenést se do dávných časů. U příležitosti státního svátku proběhne i mše svatá.
URL:https://www.archeoparkchotebuz.cz/akce/svatovaclavsky-den-2/
END:VEVENT
END:VCALENDAR