BEGIN:VCALENDAR
VERSION:2.0
PRODID:-//Archeopark Chotěbuz - Podobora - ECPv5.14.1//NONSGML v1.0//EN
CALSCALE:GREGORIAN
METHOD:PUBLISH
X-WR-CALNAME:Archeopark Chotěbuz - Podobora
X-ORIGINAL-URL:https://www.archeoparkchotebuz.cz
X-WR-CALDESC:Akce na Archeopark Chotěbuz - Podobora
BEGIN:VTIMEZONE
TZID:Europe/Paris
BEGIN:DAYLIGHT
TZOFFSETFROM:+0100
TZOFFSETTO:+0200
TZNAME:CEST
DTSTART:20210328T010000
END:DAYLIGHT
BEGIN:STANDARD
TZOFFSETFROM:+0200
TZOFFSETTO:+0100
TZNAME:CET
DTSTART:20211031T010000
END:STANDARD
END:VTIMEZONE
BEGIN:VEVENT
DTSTART;TZID=Europe/Paris:20210928T090000
DTEND;TZID=Europe/Paris:20210928T170000
DTSTAMP:20260421T074131
CREATED:20210812T133254Z
LAST-MODIFIED:20210921T091859Z
UID:3020-1632819600-1632848400@www.archeoparkchotebuz.cz
SUMMARY:SVATOVÁCLAVSKÝ DEN
DESCRIPTION:Přijďte s námi oslavit svátek patrona českých zemí sv. Václava\, poučit se a nechat se unést do dávných časů jeho života! \n 
URL:https://www.archeoparkchotebuz.cz/akce/svatovaclavsky-den/
ATTACH;FMTTYPE=image/jpeg:https://www.archeoparkchotebuz.cz/wp-content/uploads/AP-Svatováclavský-den.jpg
END:VEVENT
END:VCALENDAR