BEGIN:VCALENDAR
VERSION:2.0
PRODID:-//Archeopark Chotěbuz - Podobora - ECPv5.14.1//NONSGML v1.0//EN
CALSCALE:GREGORIAN
METHOD:PUBLISH
X-WR-CALNAME:Archeopark Chotěbuz - Podobora
X-ORIGINAL-URL:https://www.archeoparkchotebuz.cz
X-WR-CALDESC:Akce na Archeopark Chotěbuz - Podobora
BEGIN:VTIMEZONE
TZID:Europe/Paris
BEGIN:DAYLIGHT
TZOFFSETFROM:+0100
TZOFFSETTO:+0200
TZNAME:CEST
DTSTART:20200329T010000
END:DAYLIGHT
BEGIN:STANDARD
TZOFFSETFROM:+0200
TZOFFSETTO:+0100
TZNAME:CET
DTSTART:20201025T010000
END:STANDARD
END:VTIMEZONE
BEGIN:VEVENT
DTSTART;TZID=Europe/Paris:20201121T080000
DTEND;TZID=Europe/Paris:20201121T160000
DTSTAMP:20260423T104026
CREATED:20200831T090308Z
LAST-MODIFIED:20201116T161644Z
UID:2786-1605945600-1605974400@www.archeoparkchotebuz.cz
SUMMARY:ZRUŠENO - VOŇAVÁ MÝDLA
DESCRIPTION:Přijďte si vyrobit své vlastní mýdlo nejrůznějších tvarů\, barev a omamných vůní.
URL:https://www.archeoparkchotebuz.cz/akce/vonava-mydla/
END:VEVENT
END:VCALENDAR