BEGIN:VCALENDAR
VERSION:2.0
PRODID:-//Archeopark Chotěbuz - Podobora - ECPv5.14.1//NONSGML v1.0//EN
CALSCALE:GREGORIAN
METHOD:PUBLISH
X-WR-CALNAME:Archeopark Chotěbuz - Podobora
X-ORIGINAL-URL:https://www.archeoparkchotebuz.cz/en
X-WR-CALDESC:Akce na Archeopark Chotěbuz - Podobora
BEGIN:VTIMEZONE
TZID:Europe/Paris
BEGIN:DAYLIGHT
TZOFFSETFROM:+0100
TZOFFSETTO:+0200
TZNAME:CEST
DTSTART:20200329T010000
END:DAYLIGHT
BEGIN:STANDARD
TZOFFSETFROM:+0200
TZOFFSETTO:+0100
TZNAME:CET
DTSTART:20201025T010000
END:STANDARD
END:VTIMEZONE
BEGIN:VEVENT
DTSTART;TZID=Europe/Paris:20201205T080000
DTEND;TZID=Europe/Paris:20201205T160000
DTSTAMP:20260421T072037
CREATED:20200831T090553Z
LAST-MODIFIED:20201116T161701Z
UID:2788-1607155200-1607184000@www.archeoparkchotebuz.cz
SUMMARY:(Česky) ZRUŠENO - DEN KERAMICKÉ ZRUČNOSTI
DESCRIPTION:Sorry\, this entry is only available in Czech.
URL:https://www.archeoparkchotebuz.cz/en/event/cesky-den-keramicke-zrucnosti/
END:VEVENT
END:VCALENDAR