BEGIN:VCALENDAR
VERSION:2.0
PRODID:-//Archeopark Chotěbuz - Podobora - ECPv5.14.1//NONSGML v1.0//EN
CALSCALE:GREGORIAN
METHOD:PUBLISH
X-WR-CALNAME:Archeopark Chotěbuz - Podobora
X-ORIGINAL-URL:https://www.archeoparkchotebuz.cz/en
X-WR-CALDESC:Akce na Archeopark Chotěbuz - Podobora
BEGIN:VTIMEZONE
TZID:Europe/Paris
BEGIN:DAYLIGHT
TZOFFSETFROM:+0100
TZOFFSETTO:+0200
TZNAME:CEST
DTSTART:20240331T010000
END:DAYLIGHT
BEGIN:STANDARD
TZOFFSETFROM:+0200
TZOFFSETTO:+0100
TZNAME:CET
DTSTART:20241027T010000
END:STANDARD
END:VTIMEZONE
BEGIN:VEVENT
DTSTART;TZID=Europe/Paris:20240307T090000
DTEND;TZID=Europe/Paris:20240307T110000
DTSTAMP:20260425T131156
CREATED:20240215T095304Z
LAST-MODIFIED:20240217T094329Z
UID:3653-1709802000-1709809200@www.archeoparkchotebuz.cz
SUMMARY:(Česky) Řemesla našich předků - tkaní na karetkách
DESCRIPTION:Sorry\, this entry is only available in Czech.
URL:https://www.archeoparkchotebuz.cz/en/event/cesky-remesla-nasich-predku-tkani-na-keretkach/
END:VEVENT
END:VCALENDAR