BEGIN:VCALENDAR
VERSION:2.0
PRODID:-//Archeopark Chotěbuz - Podobora - ECPv5.14.1//NONSGML v1.0//EN
CALSCALE:GREGORIAN
METHOD:PUBLISH
X-WR-CALNAME:Archeopark Chotěbuz - Podobora
X-ORIGINAL-URL:https://www.archeoparkchotebuz.cz/en
X-WR-CALDESC:Akce na Archeopark Chotěbuz - Podobora
BEGIN:VTIMEZONE
TZID:Europe/Paris
BEGIN:DAYLIGHT
TZOFFSETFROM:+0100
TZOFFSETTO:+0200
TZNAME:CEST
DTSTART:20230326T010000
END:DAYLIGHT
BEGIN:STANDARD
TZOFFSETFROM:+0200
TZOFFSETTO:+0100
TZNAME:CET
DTSTART:20231029T010000
END:STANDARD
END:VTIMEZONE
BEGIN:VEVENT
DTSTART;TZID=Europe/Paris:20230204T090000
DTEND;TZID=Europe/Paris:20230204T150000
DTSTAMP:20260421T091313
CREATED:20230125T090139Z
LAST-MODIFIED:20230125T090327Z
UID:3434-1675501200-1675522800@www.archeoparkchotebuz.cz
SUMMARY:(Česky) SLOVAN Z PAPÍRU
DESCRIPTION:Sorry\, this entry is only available in Czech.
URL:https://www.archeoparkchotebuz.cz/en/event/cesky-slovan-z-papiru/
END:VEVENT
END:VCALENDAR