BEGIN:VCALENDAR
VERSION:2.0
PRODID:-//Archeopark Chotěbuz - Podobora - ECPv5.14.1//NONSGML v1.0//EN
CALSCALE:GREGORIAN
METHOD:PUBLISH
X-WR-CALNAME:Archeopark Chotěbuz - Podobora
X-ORIGINAL-URL:https://www.archeoparkchotebuz.cz/en
X-WR-CALDESC:Akce na Archeopark Chotěbuz - Podobora
BEGIN:VTIMEZONE
TZID:Europe/Paris
BEGIN:DAYLIGHT
TZOFFSETFROM:+0100
TZOFFSETTO:+0200
TZNAME:CEST
DTSTART:20210328T010000
END:DAYLIGHT
BEGIN:STANDARD
TZOFFSETFROM:+0200
TZOFFSETTO:+0100
TZNAME:CET
DTSTART:20211031T010000
END:STANDARD
END:VTIMEZONE
BEGIN:VEVENT
DTSTART;TZID=Europe/Paris:20211218T090000
DTEND;TZID=Europe/Paris:20211218T150000
DTSTAMP:20260421T091910
CREATED:20210812T133823Z
LAST-MODIFIED:20211129T091458Z
UID:3032-1639818000-1639839600@www.archeoparkchotebuz.cz
SUMMARY:(Česky) VOŇAVÁ MÝDLA
DESCRIPTION:Sorry\, this entry is only available in Czech.
URL:https://www.archeoparkchotebuz.cz/en/event/cesky-vonava-mydla-2/
END:VEVENT
END:VCALENDAR