BEGIN:VCALENDAR
VERSION:2.0
PRODID:-//Archeopark Kocobędz-Podobora - ECPv5.14.1//NONSGML v1.0//EN
CALSCALE:GREGORIAN
METHOD:PUBLISH
X-WR-CALNAME:Archeopark Kocobędz-Podobora
X-ORIGINAL-URL:https://www.archeoparkchotebuz.cz/pl
X-WR-CALDESC:Akce na Archeopark Kocobędz-Podobora
BEGIN:VTIMEZONE
TZID:Europe/Paris
BEGIN:DAYLIGHT
TZOFFSETFROM:+0100
TZOFFSETTO:+0200
TZNAME:CEST
DTSTART:20220327T010000
END:DAYLIGHT
BEGIN:STANDARD
TZOFFSETFROM:+0200
TZOFFSETTO:+0100
TZNAME:CET
DTSTART:20221030T010000
END:STANDARD
END:VTIMEZONE
BEGIN:VEVENT
DTSTART;TZID=Europe/Paris:20221203T090000
DTEND;TZID=Europe/Paris:20221203T160000
DTSTAMP:20260421T073402
CREATED:20221129T104646Z
LAST-MODIFIED:20221129T104646Z
UID:3421-1670058000-1670083200@www.archeoparkchotebuz.cz
SUMMARY:(Česky) KOUZELNÉ VÁNOCE
DESCRIPTION:Przepraszamy\, ten wpis jest dostępny tylko w języku Czeski.
URL:https://www.archeoparkchotebuz.cz/pl/wydarzenie/cesky-kouzelne-vanoce-4/
ATTACH;FMTTYPE=image/jpeg:https://www.archeoparkchotebuz.cz/wp-content/uploads/AP-Kouzelne-Vanoce.jpg
END:VEVENT
END:VCALENDAR