BEGIN:VCALENDAR
VERSION:2.0
PRODID:-//Archeopark Kocobędz-Podobora - ECPv5.14.1//NONSGML v1.0//EN
CALSCALE:GREGORIAN
METHOD:PUBLISH
X-WR-CALNAME:Archeopark Kocobędz-Podobora
X-ORIGINAL-URL:https://www.archeoparkchotebuz.cz/pl
X-WR-CALDESC:Akce na Archeopark Kocobędz-Podobora
BEGIN:VTIMEZONE
TZID:Europe/Paris
BEGIN:DAYLIGHT
TZOFFSETFROM:+0100
TZOFFSETTO:+0200
TZNAME:CEST
DTSTART:20230326T010000
END:DAYLIGHT
BEGIN:STANDARD
TZOFFSETFROM:+0200
TZOFFSETTO:+0100
TZNAME:CET
DTSTART:20231029T010000
END:STANDARD
END:VTIMEZONE
BEGIN:VEVENT
DTSTART;TZID=Europe/Paris:20230401T090000
DTEND;TZID=Europe/Paris:20230401T170000
DTSTAMP:20260423T192414
CREATED:20230308T143142Z
LAST-MODIFIED:20230331T164549Z
UID:3465-1680339600-1680368400@www.archeoparkchotebuz.cz
SUMMARY:(Česky) OD PŘÍZE PO TUNIKU
DESCRIPTION:Przepraszamy\, ten wpis jest dostępny tylko w języku Czeski.
URL:https://www.archeoparkchotebuz.cz/pl/wydarzenie/cesky-od-prize-po-tuniku/
END:VEVENT
END:VCALENDAR