BEGIN:VCALENDAR
VERSION:2.0
PRODID:-//Archeopark Kocobędz-Podobora - ECPv5.14.1//NONSGML v1.0//EN
CALSCALE:GREGORIAN
METHOD:PUBLISH
X-WR-CALNAME:Archeopark Kocobędz-Podobora
X-ORIGINAL-URL:https://www.archeoparkchotebuz.cz/pl
X-WR-CALDESC:Akce na Archeopark Kocobędz-Podobora
BEGIN:VTIMEZONE
TZID:Europe/Paris
BEGIN:DAYLIGHT
TZOFFSETFROM:+0100
TZOFFSETTO:+0200
TZNAME:CEST
DTSTART:20240331T010000
END:DAYLIGHT
BEGIN:STANDARD
TZOFFSETFROM:+0200
TZOFFSETTO:+0100
TZNAME:CET
DTSTART:20241027T010000
END:STANDARD
END:VTIMEZONE
BEGIN:VEVENT
DTSTART;TZID=Europe/Paris:20240210T100000
DTEND;TZID=Europe/Paris:20240210T150000
DTSTAMP:20260425T131023
CREATED:20240118T120329Z
LAST-MODIFIED:20240118T120329Z
UID:3606-1707559200-1707577200@www.archeoparkchotebuz.cz
SUMMARY:(Česky) Pozor\, pračlověk!
DESCRIPTION:Przepraszamy\, ten wpis jest dostępny tylko w języku Czeski.
URL:https://www.archeoparkchotebuz.cz/pl/wydarzenie/cesky-pozor-praclovek/
END:VEVENT
END:VCALENDAR